BEGIN:VCALENDAR
VERSION:2.0
PRODID:-//Johnson Creek Watershed Council - ECPv6.15.20//NONSGML v1.0//EN
CALSCALE:GREGORIAN
METHOD:PUBLISH
X-ORIGINAL-URL:https://www.jcwc.org
X-WR-CALDESC:Events for Johnson Creek Watershed Council
REFRESH-INTERVAL;VALUE=DURATION:PT1H
X-Robots-Tag:noindex
X-PUBLISHED-TTL:PT1H
BEGIN:VTIMEZONE
TZID:America/Los_Angeles
BEGIN:DAYLIGHT
TZOFFSETFROM:-0800
TZOFFSETTO:-0700
TZNAME:PDT
DTSTART:20240310T100000
END:DAYLIGHT
BEGIN:STANDARD
TZOFFSETFROM:-0700
TZOFFSETTO:-0800
TZNAME:PST
DTSTART:20241103T090000
END:STANDARD
BEGIN:DAYLIGHT
TZOFFSETFROM:-0800
TZOFFSETTO:-0700
TZNAME:PDT
DTSTART:20250309T100000
END:DAYLIGHT
BEGIN:STANDARD
TZOFFSETFROM:-0700
TZOFFSETTO:-0800
TZNAME:PST
DTSTART:20251102T090000
END:STANDARD
BEGIN:DAYLIGHT
TZOFFSETFROM:-0800
TZOFFSETTO:-0700
TZNAME:PDT
DTSTART:20260308T100000
END:DAYLIGHT
BEGIN:STANDARD
TZOFFSETFROM:-0700
TZOFFSETTO:-0800
TZNAME:PST
DTSTART:20261101T090000
END:STANDARD
END:VTIMEZONE
BEGIN:VEVENT
DTSTART;TZID=America/Los_Angeles:20250813T090000
DTEND;TZID=America/Los_Angeles:20250813T120000
DTSTAMP:20260421T081750
CREATED:20241125T234727Z
LAST-MODIFIED:20250617T230124Z
UID:33347-1755075600-1755086400@www.jcwc.org
SUMMARY:CANCELLED: Land Tending at Leach Botanical Garden
DESCRIPTION:  \n\n\n\nA big thank you to The Mintkeski Family Fund of the Oregon Community Foundation and Portland General Electric for their generous funding for our volunteer program.
URL:https://www.jcwc.org/events/land-tending-at-leach-botanical-garden-7/
CATEGORIES:Habitat Enhancement,Stewardship Event,Volunteer Event
ATTACH;FMTTYPE=image/jpeg:https://www.jcwc.org/wp-content/uploads/2024/11/7-2.jpg
END:VEVENT
END:VCALENDAR