BEGIN:VCALENDAR
VERSION:2.0
PRODID:-//Johnson Creek Watershed Council - ECPv6.15.20//NONSGML v1.0//EN
CALSCALE:GREGORIAN
METHOD:PUBLISH
X-WR-CALNAME:Johnson Creek Watershed Council
X-ORIGINAL-URL:https://www.jcwc.org
X-WR-CALDESC:Events for Johnson Creek Watershed Council
REFRESH-INTERVAL;VALUE=DURATION:PT1H
X-Robots-Tag:noindex
X-PUBLISHED-TTL:PT1H
BEGIN:VTIMEZONE
TZID:America/Los_Angeles
BEGIN:DAYLIGHT
TZOFFSETFROM:-0800
TZOFFSETTO:-0700
TZNAME:PDT
DTSTART:20120311T100000
END:DAYLIGHT
BEGIN:STANDARD
TZOFFSETFROM:-0700
TZOFFSETTO:-0800
TZNAME:PST
DTSTART:20121104T090000
END:STANDARD
BEGIN:DAYLIGHT
TZOFFSETFROM:-0800
TZOFFSETTO:-0700
TZNAME:PDT
DTSTART:20130310T100000
END:DAYLIGHT
BEGIN:STANDARD
TZOFFSETFROM:-0700
TZOFFSETTO:-0800
TZNAME:PST
DTSTART:20131103T090000
END:STANDARD
BEGIN:DAYLIGHT
TZOFFSETFROM:-0800
TZOFFSETTO:-0700
TZNAME:PDT
DTSTART:20140309T100000
END:DAYLIGHT
BEGIN:STANDARD
TZOFFSETFROM:-0700
TZOFFSETTO:-0800
TZNAME:PST
DTSTART:20141102T090000
END:STANDARD
END:VTIMEZONE
BEGIN:VEVENT
DTSTART;TZID=America/Los_Angeles:20131005T000000
DTEND;TZID=America/Los_Angeles:20131005T235959
DTSTAMP:20260423T072538
CREATED:20131002T053259Z
LAST-MODIFIED:20131002T053259Z
UID:2898-1380931200-1381017599@www.jcwc.org
SUMMARY:Willamette River Cleanup
DESCRIPTION:Volunteer for Willamette Riverkeeper\’s 5th Annual GREAT WILLAMETTE CLEANUP: a PADDLING based\, RIVER-WIDE effort! \n \nOn Saturday\, October 5th GET DIRTY FOR GOOD by participating at any number of cleanup sites spanning 191 river miles from the Middle Fork Willamette River to the Confluence\, including land and PADDLING based efforts accessible to all. BYO-Boat or SUP\, or reserve a seat in a canoe\, kayak\, or raft depending on the location. Click here to register and see the location options! \nThere will be a free t-shirt as well as some post cleanup celebrations! \n 
URL:https://www.jcwc.org/events/willamette-river-cleanup-2/
END:VEVENT
BEGIN:VEVENT
DTSTART;TZID=America/Los_Angeles:20131005T090000
DTEND;TZID=America/Los_Angeles:20131005T150000
DTSTAMP:20260423T072538
CREATED:20130921T034048Z
LAST-MODIFIED:20130921T034048Z
UID:2830-1380963600-1380985200@www.jcwc.org
SUMMARY:Fall Canyon Day
DESCRIPTION:Reed College Canyon Day \nOctober 5th 9-3pm \nLocated in the canyon just below the Grove dorms\, and behind the Canyon House. \nThis event is free\, open to all ages. Tools\, training\, food\, and fun provided. \nFor a campus map refer to: \nhttp://www.reed.edu/facilities_services/reed_static_map.html \n  \nMusic and cider pressing! \nBring gloves if you have them. \nFor more information\, see website: http://www.reed.edu/canyon/cday/  \nContact: zac.perry@reed.edu \n 
URL:https://www.jcwc.org/events/fall-canyon-day-2/
END:VEVENT
BEGIN:VEVENT
DTSTART;TZID=America/Los_Angeles:20131012T090000
DTEND;TZID=America/Los_Angeles:20131012T120000
DTSTAMP:20260423T072538
CREATED:20130912T051635Z
LAST-MODIFIED:20130912T051635Z
UID:2765-1381568400-1381579200@www.jcwc.org
SUMMARY:Prepare Errol Heights for Future Native Planting
DESCRIPTION:Volunteers will be mulching a site slated to be planted this winter. They will also be removing invasive species from a former volunteer-planted area\, and will install several signs. No experience necessary! Wear sturdy shoes\, long pants and shirts\, and bring rain gear\, a hat and water bottle. Instruction\, tools\, gloves and small treats will be provided. Volunteers must be at least age 16 (without adult supervision) and younger children must be accompanied by adults. Volunteers under age 18 must have a parent sign the PP&R liability form before the child is allowed  to participate. \n  \n  \n \nThis event is part of Parke Diem\, a citywide work party weekend for Portland`s parks and natural areas. Register on the Parke Diem website and get a free t-shirt! This is a joint restoration event led by Portland Parks and Recreation\, City Nature East in partnership with Johnson Creek Watershed Council\, Friends of Errol Heights and Friends of Tideman Johnson. For more information\, please contact City Nature East Stewardship Coordinator\, Susan Hawes at Susan.Hawes@portlandoregon.gov or call (503) 823-5939. See event flyer. 
URL:https://www.jcwc.org/events/prepare-errol-heights-for-future-native-planting-2/
ORGANIZER;CN="Portland Parks & Recreation%2C City Nature East ":MAILTO: susan.hawes@portlandoregon.gov
END:VEVENT
BEGIN:VEVENT
DTSTART;TZID=America/Los_Angeles:20131015T173000
DTEND;TZID=America/Los_Angeles:20131015T193000
DTSTAMP:20260423T072538
CREATED:20130917T023122Z
LAST-MODIFIED:20130917T023122Z
UID:2806-1381858200-1381865400@www.jcwc.org
SUMMARY:Board Meeting
DESCRIPTION:Board meetings are open to the public.
URL:https://www.jcwc.org/events/board-meeting-2-2/
ORGANIZER;CN="Amy":MAILTO:amy@jcwc.org
END:VEVENT
BEGIN:VEVENT
DTSTART;TZID=America/Los_Angeles:20131020T110000
DTEND;TZID=America/Los_Angeles:20131020T160000
DTSTAMP:20260423T072538
CREATED:20131002T044257Z
LAST-MODIFIED:20131002T044257Z
UID:2892-1382266800-1382284800@www.jcwc.org
SUMMARY:Salmon Homecoming at Oxbow Regional Park
DESCRIPTION:Nothing says “Pacific Northwest” like the annual return from the ocean of salmon\, fighting upstream to spawn and die in the rivers of their birth. In October\, witness this ancient\, iconic phenomenon at Oxbow Regional Park along the Sandy River\, one of the nation’s designated Wild and Scenic Rivers. During the annual Salmon Homecoming\, naturalists are on hand at Oxbow to help you see the salmon and explore other aspects of this 1\,000-acre wilderness of old growth forest\, hiking and equestrian trails and river beaches. \n\nAll Salmon Homecoming events are free; registration is not required. $5 per vehicle ($7 per bus) fee. For more information\, call 503-663-0238. \n\nView salmon\n11 a.m. to 4 p.m.\nJoin naturalists at the river’s edge; they’ll help you spot spawning salmon and tell you about the salmon’s behavior and life cycle. Borrow a pair of polarized fish-viewing glasses onsite. The trail to salmon viewing is unpaved and fairly level. Suitable for all ages. \n \nIdentify mushrooms\n2 to 4 p.m. \nExplore the incredible diversity of fungi in Oxbow’s ancient forest. In this hands-on\, beginners class\, learn the basics of mushrooms and other fungi. Suitable for ages 12 and older. Meet at Alder Shelter (group picnic area A) at 1:45 p.m.
URL:https://www.jcwc.org/events/salmon-homecoming-at-oxbow-regional-park-2/
END:VEVENT
BEGIN:VEVENT
DTSTART;TZID=America/Los_Angeles:20131022T180000
DTEND;TZID=America/Los_Angeles:20131022T200000
DTSTAMP:20260423T072538
CREATED:20130917T021720Z
LAST-MODIFIED:20130917T021720Z
UID:2803-1382464800-1382472000@www.jcwc.org
SUMMARY:Coho Spawning Surveys Orientation
DESCRIPTION:Please help Johnson Creek Watershed Council monitor the movement of Coho salmon up Johnson Creek from October through December 15. No experience necessary\, training required. Biologists from Oregon Department of Fish and Wildlife and JCWC Staff will provide training and answer questions. Light refreshments provided. Important note: Volunteer surveyors will walk directly in the stream which can be difficult. Full mobility and balance is necessary for this activity. For questions and to RSVP\, contact Amy by October 21 at amy@jcwc.org or call 503-652-7477. Please check out the flyer below for more information about the event. \n\nCoho Salmon Flyer 2013
URL:https://www.jcwc.org/events/coho-surveys-orientation-2/
ORGANIZER;CN="Amy":MAILTO:amy@jcwc.org
END:VEVENT
BEGIN:VEVENT
DTSTART;TZID=America/Los_Angeles:20131026T100000
DTEND;TZID=America/Los_Angeles:20131026T130000
DTSTAMP:20260423T072538
CREATED:20131025T113854Z
LAST-MODIFIED:20131025T113854Z
UID:3001-1382781600-1382792400@www.jcwc.org
SUMMARY:Eagle Scout Project
DESCRIPTION:What we are doing: there is a section of the Johnson Creek that we will be landscaping (removing blackberry bushes and planting willows). What you need to bring: leather gloves\, rain boots and a rain jacket. \n 
URL:https://www.jcwc.org/events/eagle-scout-project-2/
ORGANIZER;CN="Amy":MAILTO:amy@jcwc.org
END:VEVENT
BEGIN:VEVENT
DTSTART;TZID=America/Los_Angeles:20131026T100000
DTEND;TZID=America/Los_Angeles:20131026T140000
DTSTAMP:20260423T072538
CREATED:20131009T022700Z
LAST-MODIFIED:20131009T022700Z
UID:2954-1382781600-1382796000@www.jcwc.org
SUMMARY:Tree Planting
DESCRIPTION:Help JCWC plant some trees! Lunch will be provided and anyone is welcome. \nLocation:\nSt. Mary Ethiopian Orthodox Church\n7715 SE 92nd Avenue\, Portland\, OR 97266\nParking available on SE Flavel Street\, east of 92nd Avenue \nPlease RSPV to Amy at amy@jcwc.org\nVolunteers must wear close-toed shoes.
URL:https://www.jcwc.org/events/tree-planting-2/
ORGANIZER;CN="Amy":MAILTO:amy@jcwc.org
END:VEVENT
BEGIN:VEVENT
DTSTART;TZID=America/Los_Angeles:20131028T180000
DTEND;TZID=America/Los_Angeles:20131028T193000
DTSTAMP:20260423T072538
CREATED:20131009T043531Z
LAST-MODIFIED:20131009T043531Z
UID:2962-1382983200-1382988600@www.jcwc.org
SUMMARY:Free Graywater Workshop
DESCRIPTION:This is a free workshop hosted by the Clackamas County Soil and Water Conservation District to learn about graywater systems. These systems use recycled water for toilet flushing and outdoor irrigation\, reducing our water use. For additional information see the Flyer – Graywater Workshop 10-3-13 or join us for the workshop. Light refreshments will be provided. \nLocation:\nOak Lodge Fire Station #3\n2930 SE Oak Grove Blvd.\, Milwaukie OR 97267 \nRSVP is required because space is limited. Email cmcqueeney@conservationdistrict.org or call 503-210-6000
URL:https://www.jcwc.org/events/free-graywater-workshop-2/
ORGANIZER;CN="Clackamas Country Soil and Water":MAILTO:cmcqueeney@conservationdistrict.org
END:VEVENT
END:VCALENDAR