BEGIN:VCALENDAR
VERSION:2.0
PRODID:-//Johnson Creek Watershed Council - ECPv6.15.20//NONSGML v1.0//EN
CALSCALE:GREGORIAN
METHOD:PUBLISH
X-ORIGINAL-URL:https://www.jcwc.org
X-WR-CALDESC:Events for Johnson Creek Watershed Council
REFRESH-INTERVAL;VALUE=DURATION:PT1H
X-Robots-Tag:noindex
X-PUBLISHED-TTL:PT1H
BEGIN:VTIMEZONE
TZID:America/Los_Angeles
BEGIN:DAYLIGHT
TZOFFSETFROM:-0800
TZOFFSETTO:-0700
TZNAME:PDT
DTSTART:20120311T100000
END:DAYLIGHT
BEGIN:STANDARD
TZOFFSETFROM:-0700
TZOFFSETTO:-0800
TZNAME:PST
DTSTART:20121104T090000
END:STANDARD
BEGIN:DAYLIGHT
TZOFFSETFROM:-0800
TZOFFSETTO:-0700
TZNAME:PDT
DTSTART:20130310T100000
END:DAYLIGHT
BEGIN:STANDARD
TZOFFSETFROM:-0700
TZOFFSETTO:-0800
TZNAME:PST
DTSTART:20131103T090000
END:STANDARD
BEGIN:DAYLIGHT
TZOFFSETFROM:-0800
TZOFFSETTO:-0700
TZNAME:PDT
DTSTART:20140309T100000
END:DAYLIGHT
BEGIN:STANDARD
TZOFFSETFROM:-0700
TZOFFSETTO:-0800
TZNAME:PST
DTSTART:20141102T090000
END:STANDARD
END:VTIMEZONE
BEGIN:VEVENT
DTSTART;TZID=America/Los_Angeles:20131206T180000
DTEND;TZID=America/Los_Angeles:20131206T200000
DTSTAMP:20260422T160429
CREATED:20130917T025744Z
LAST-MODIFIED:20130917T025744Z
UID:2810-1386352800-1386360000@www.jcwc.org
SUMMARY:Volunteer Appreciation Dinner
DESCRIPTION:We want to honor YOU and all of your hard work this year! Please join Johnson Creek Watershed Council and your fellow friends at our annual volunteer appreciation dinner. Friends and family are welcome! \nJCWC will provide a main course and beverage. Optional potluck: bring salad\, a side\, or dessert! \nRSVP\’s appreciated! To amy@jcwc.org or call 503-652-7477 \nAnnual volunteer appreciation dinner invitation.pdf
URL:https://www.jcwc.org/events/volunteer-appreciation-dinner-2/
LOCATION:Gresham VFW\, 150 W. Powell Blvd. \, Gresham\, 97030
ORGANIZER;CN="Amy":MAILTO:amy@jcwc.org
END:VEVENT
BEGIN:VEVENT
DTSTART;TZID=America/Los_Angeles:20131207T100000
DTEND;TZID=America/Los_Angeles:20131207T120000
DTSTAMP:20260422T160430
CREATED:20131119T045255Z
LAST-MODIFIED:20131119T045255Z
UID:3117-1386410400-1386417600@www.jcwc.org
SUMMARY:Johnson Creek Canyon Volunteer Planting Event
DESCRIPTION:Join us for this native planting event in Johnson Creek canyon\, near Tideman Johnson Park. We have a big plant order for this project so need about 25 volunteers to get them in the ground. Families welcome. Tools and gloves provided.  We will meet at a private residence near Tideman Johnson Park (see address). RSVP to Amy at amy@jcwc.org or call 503-652-7477.
URL:https://www.jcwc.org/events/johnson-creek-canyon-volunteer-planting-event-2/
END:VEVENT
BEGIN:VEVENT
DTSTART;TZID=America/Los_Angeles:20131210T180000
DTEND;TZID=America/Los_Angeles:20131210T200000
DTSTAMP:20260422T160430
CREATED:20131120T033232Z
LAST-MODIFIED:20131120T033232Z
UID:3125-1386698400-1386705600@www.jcwc.org
SUMMARY:Phone Banking with JCWC
DESCRIPTION:JCWC volunteers are welcome to join us for pizza and beer and we make calls to our donors. You’ll be provided a brief orientation and script and then will record the results of those calls in your notes. By helping with this phone bank\, you’re taking on a high leadership role in this organization. IS it time for you to step up? \nContact Amy at amy@jcwc.org for more information and to sign up.
URL:https://www.jcwc.org/events/phone-banking-with-jcwc-3/
END:VEVENT
BEGIN:VEVENT
DTSTART;TZID=America/Los_Angeles:20131212T180000
DTEND;TZID=America/Los_Angeles:20131212T200000
DTSTAMP:20260422T160430
CREATED:20131120T033552Z
LAST-MODIFIED:20131120T033552Z
UID:3128-1386871200-1386878400@www.jcwc.org
SUMMARY:Phone Banking with JCWC
DESCRIPTION:JCWC volunteers are welcome to join us for pizza and beer and we make calls to our donors. You’ll be provided a brief orientation and script and then will record the results of those calls in your notes. By helping with this phone bank\, you’re taking on a high leadership role in this organization. IS it time for you to step up? \nContact Amy at amy@jcwc.org for more information and to sign up.
URL:https://www.jcwc.org/events/phone-banking-with-jcwc-2-2/
LOCATION:JCWC Headquarters\, 1900 SE Milport Rd.\, Suite B\, Milwaukie\, Oregon\, 97222
END:VEVENT
BEGIN:VEVENT
DTSTART;TZID=America/Los_Angeles:20131221T090000
DTEND;TZID=America/Los_Angeles:20131221T120000
DTSTAMP:20260422T160430
CREATED:20131120T055115Z
LAST-MODIFIED:20131120T055115Z
UID:3136-1387616400-1387627200@www.jcwc.org
SUMMARY:Restoration with Friends of Errol Heights
DESCRIPTION:Join us for mulching and weeding at Errol Heights. Tools and gloves provided. To sign up\, contact Paul Ciri at seciri@juno.com.
URL:https://www.jcwc.org/events/restoration-with-friends-of-errol-heights-2/
LOCATION:Errol Heights\, SE 52nd and Tenino Drive\, Portland\, OR\, 97206\, United States
ORGANIZER;CN="Friends of Errol Heights ":MAILTO:seciri@juno.com
END:VEVENT
BEGIN:VEVENT
DTSTART;TZID=America/Los_Angeles:20131223T000000
DTEND;TZID=America/Los_Angeles:20131227T235959
DTSTAMP:20260422T160430
CREATED:20131127T044900Z
LAST-MODIFIED:20131127T044900Z
UID:3142-1387756800-1388188799@www.jcwc.org
SUMMARY:JCWC Offices Closed Christmas Week
DESCRIPTION:The JCWC Office will be closed December 23-27.
URL:https://www.jcwc.org/events/jcwc-offices-closed-christmas-week-2/
LOCATION:JCWC Headquarters\, 1900 SE Milport Rd.\, Suite B\, Milwaukie\, Oregon\, 97222
END:VEVENT
END:VCALENDAR