BEGIN:VCALENDAR
VERSION:2.0
PRODID:-//Johnson Creek Watershed Council - ECPv6.15.20//NONSGML v1.0//EN
CALSCALE:GREGORIAN
METHOD:PUBLISH
X-ORIGINAL-URL:https://www.jcwc.org
X-WR-CALDESC:Events for Johnson Creek Watershed Council
REFRESH-INTERVAL;VALUE=DURATION:PT1H
X-Robots-Tag:noindex
X-PUBLISHED-TTL:PT1H
BEGIN:VTIMEZONE
TZID:America/Los_Angeles
BEGIN:DAYLIGHT
TZOFFSETFROM:-0800
TZOFFSETTO:-0700
TZNAME:PDT
DTSTART:20130310T100000
END:DAYLIGHT
BEGIN:STANDARD
TZOFFSETFROM:-0700
TZOFFSETTO:-0800
TZNAME:PST
DTSTART:20131103T090000
END:STANDARD
BEGIN:DAYLIGHT
TZOFFSETFROM:-0800
TZOFFSETTO:-0700
TZNAME:PDT
DTSTART:20140309T100000
END:DAYLIGHT
BEGIN:STANDARD
TZOFFSETFROM:-0700
TZOFFSETTO:-0800
TZNAME:PST
DTSTART:20141102T090000
END:STANDARD
BEGIN:DAYLIGHT
TZOFFSETFROM:-0800
TZOFFSETTO:-0700
TZNAME:PDT
DTSTART:20150308T100000
END:DAYLIGHT
BEGIN:STANDARD
TZOFFSETFROM:-0700
TZOFFSETTO:-0800
TZNAME:PST
DTSTART:20151101T090000
END:STANDARD
END:VTIMEZONE
BEGIN:VEVENT
DTSTART;TZID=America/Los_Angeles:20140716T180000
DTEND;TZID=America/Los_Angeles:20140716T200000
DTSTAMP:20260421T193938
CREATED:20140328T054027Z
LAST-MODIFIED:20140328T054027Z
UID:3603-1405533600-1405540800@www.jcwc.org
SUMMARY:Johnson Creek Park Steward Meet-up / Picnic / Tour
DESCRIPTION:Come one\, come all!  We invite all Johnson Creek Park Stewards you to a celebratory meet-up/picnic/tour at Johnson Creek Park.  This is a great opportunity to meet other volunteers\, eat some food\, and share your stories\, accomplishment\, and restoration techniques as we monitor wildlife and help prevent the spread of invasive plants. \nThe event is located at Johnson Creek Park in Portland at the end of SE Clatsop St.  Traveling south on SE McLoughlin Blvd. (99E)\, take a right onto SE Clatsop St.\, and follow Clatsop St. east toward SE 24th Ave. \n  \n\nPlease RSVP Amy Lodholz at amy@jcwc.org\, or by phone at her office at 503.652.7477.
URL:https://www.jcwc.org/events/johnson-creek-park-steward-meet-up-picnic-tour-2/
CATEGORIES:Recreational Event
END:VEVENT
END:VCALENDAR