BEGIN:VCALENDAR
VERSION:2.0
PRODID:-//Johnson Creek Watershed Council - ECPv6.15.20//NONSGML v1.0//EN
CALSCALE:GREGORIAN
METHOD:PUBLISH
X-ORIGINAL-URL:https://www.jcwc.org
X-WR-CALDESC:Events for Johnson Creek Watershed Council
REFRESH-INTERVAL;VALUE=DURATION:PT1H
X-Robots-Tag:noindex
X-PUBLISHED-TTL:PT1H
BEGIN:VTIMEZONE
TZID:America/Los_Angeles
BEGIN:DAYLIGHT
TZOFFSETFROM:-0800
TZOFFSETTO:-0700
TZNAME:PDT
DTSTART:20240310T100000
END:DAYLIGHT
BEGIN:STANDARD
TZOFFSETFROM:-0700
TZOFFSETTO:-0800
TZNAME:PST
DTSTART:20241103T090000
END:STANDARD
BEGIN:DAYLIGHT
TZOFFSETFROM:-0800
TZOFFSETTO:-0700
TZNAME:PDT
DTSTART:20250309T100000
END:DAYLIGHT
BEGIN:STANDARD
TZOFFSETFROM:-0700
TZOFFSETTO:-0800
TZNAME:PST
DTSTART:20251102T090000
END:STANDARD
BEGIN:DAYLIGHT
TZOFFSETFROM:-0800
TZOFFSETTO:-0700
TZNAME:PDT
DTSTART:20260308T100000
END:DAYLIGHT
BEGIN:STANDARD
TZOFFSETFROM:-0700
TZOFFSETTO:-0800
TZNAME:PST
DTSTART:20261101T090000
END:STANDARD
END:VTIMEZONE
BEGIN:VEVENT
DTSTART;TZID=America/Los_Angeles:20250903T180000
DTEND;TZID=America/Los_Angeles:20250903T193000
DTSTAMP:20260425T142508
CREATED:20250623T214125Z
LAST-MODIFIED:20250624T232033Z
UID:34046-1756922400-1756927800@www.jcwc.org
SUMMARY:Beaver Survey Orientation
DESCRIPTION:We are looking for the next Community Science superstars for the Johnson Creek Watershed Council’s Beaver Surveys! Can you believe we are headed into our tenth year of surveys! \nJoin teams of 3-4 volunteers on a survey by walking a 1-mile long reach of the creek to map and collect data on beaver dams and other signs of beaver activity on Saturday\, September 6th! All surveys will happen on the same day – your team sets the time. \nNo experience or gear necessary\, all instructions and gear will be provided at orientation and on the survey day! Sign-up with a partner/group or sign-up on your own and you will be paired up with other volunteers! \nClick here to RSVP!\nWhen: Orientation – September 3rd\, 6-7:30pm over Zoom \nNew this year! Survey Season – Surveyors will conduct one survey on Saturday\, September 6th \nWhere: Zoom Orientation – September 3rd\, 6-7:30pm\, Zoom link emailed to you after registration.  \nGear Pick-up\, Survey\, and Gear Drop-off – September 6th\, at JCWC office \nSurvey Season – Surveys take place at different locations in the watershed from Crystal Springs in SE Portland to SE Gresham on Saturday\, September 6th.  \nOrientation is required to participate \nTime commitment: Orientation – 1.5 hours \nSurvey Season – Sign-up for a survey on Saturday\, September 6th. Surveys typically take between 1.5 and 3 hours.  \nHow to prepare: This event will happen rain or shine\, so dress for weather: rain coat\, warm layers\, sun hat\, and sunscreen as necessary. Wear sturdy\, close-toed shoes and clothes you don’t mind getting dirty. Bring a filled water bottle and a snack.  \nWe will provide: We will provide all necessary training and gear. You are welcome to bring your own waders\, life jacket\, and walking stick. We can also provide bus fare to and from the event. Please contact info@jcwc.org to arrange bus fare. \nHealth and safety: We will follow current Oregon Health Authority guidelines. Masks are not required\, but encouraged in indoor spaces where social distancing is not possible. Stay home if you are experiencing symptoms of any contagious illness or have had recent contact with someone exhibiting symptoms of any illness. \nChildren 16 years and older are welcome to participate in surveys. \nAccessibility: These surveys require walking/standing/squatting for up to 3 hours in summer weather. Surveys require wading through Johnson Creek in water levels that can vary between ankle deep to waist deep and potentially climbing over/under downed logs. Anyone under 4ft tall is unfortunately not permitted to participate in surveys.  \nFor these surveys we use the app Anecdata to record data. Please have Anecdata downloaded and set-up before orientation.  \nThank you to our funders and partners for supporting watershed health. East Multnomah Soil & Water Conservation District\, The City of Portland’s Bureau of Environmental Services\, City of Gresham\, Metro and The Wetlands Conservancy.
URL:https://www.jcwc.org/events/beaver-survey-orientation-4/
CATEGORIES:Volunteer Event
ATTACH;FMTTYPE=image/jpeg:https://www.jcwc.org/wp-content/uploads/2025/06/20250903-Beaver-Survey.jpg
END:VEVENT
BEGIN:VEVENT
DTSTART;VALUE=DATE:20250906
DTEND;VALUE=DATE:20250907
DTSTAMP:20260425T142508
CREATED:20250623T214550Z
LAST-MODIFIED:20250624T232128Z
UID:34049-1757116800-1757203199@www.jcwc.org
SUMMARY:Beaver Survey
DESCRIPTION:We are looking for the next Community Science superstars for the Johnson Creek Watershed Council’s Beaver Surveys! Can you believe we are headed into our tenth year of surveys! \nJoin teams of 3-4 volunteers on a survey by walking a 1-mile long reach of the creek to map and collect data on beaver dams and other signs of beaver activity on Saturday\, September 6th! All surveys will happen on the same day – your team sets the time. \nNo experience or gear necessary\, all instructions and gear will be provided at orientation and on the survey day! Sign-up with a partner/group or sign-up on your own and you will be paired up with other volunteers! \nClick here to RSVP!\nWhen: Orientation – September 3rd\, 6-7:30pm over Zoom \nNew this year! Survey Season – Surveyors will conduct one survey on Saturday\, September 6th. Survey site sign up after orientation is completed. \nWhere: Zoom Orientation – September 3rd\, 6-7:30pm\, Zoom link emailed to you after registration.  \nGear Pick-up\, Survey\, and Gear Drop-off – September 6th\, at JCWC office \nSurvey Season – Surveys take place at different locations in the watershed from Crystal Springs in SE Portland to SE Gresham on Saturday\, September 6th.  \nOrientation is required to participate \nTime commitment: Orientation – 1.5 hours \nSurvey Season – Sign-up for a survey on Saturday\, September 6th. Surveys typically take between 1.5 and 3 hours.  \nHow to prepare: This event will happen rain or shine\, so dress for weather: rain coat\, warm layers\, sun hat\, and sunscreen as necessary. Wear sturdy\, close-toed shoes and clothes you don’t mind getting dirty. Bring a filled water bottle and a snack.  \nWe will provide: We will provide all necessary training and gear. You are welcome to bring your own waders\, life jacket\, and walking stick. We can also provide bus fare to and from the event. Please contact info@jcwc.org to arrange bus fare. \nHealth and safety: We will follow current Oregon Health Authority guidelines. Masks are not required\, but encouraged in indoor spaces where social distancing is not possible. Stay home if you are experiencing symptoms of any contagious illness or have had recent contact with someone exhibiting symptoms of any illness. \nChildren 16 years and older are welcome to participate in surveys. \nAccessibility: These surveys require walking/standing/squatting for up to 3 hours in summer weather. Surveys require wading through Johnson Creek in water levels that can vary between ankle deep to waist deep and potentially climbing over/under downed logs. Anyone under 4ft tall is unfortunately not permitted to participate in surveys.  \nFor these surveys we use the app Anecdata to record data. Please have Anecdata downloaded and set-up before orientation.  \nThank you to our funders and partners for supporting watershed health. East Multnomah Soil & Water Conservation District\, The City of Portland’s Bureau of Environmental Services\, City of Gresham\, Metro and The Wetlands Conservancy.
URL:https://www.jcwc.org/events/beaver-survey/
CATEGORIES:Volunteer Event
ATTACH;FMTTYPE=image/jpeg:https://www.jcwc.org/wp-content/uploads/2025/06/20250903-Beaver-Survey.jpg
END:VEVENT
END:VCALENDAR