BEGIN:VCALENDAR
VERSION:2.0
PRODID:-//Johnson Creek Watershed Council - ECPv6.15.20//NONSGML v1.0//EN
CALSCALE:GREGORIAN
METHOD:PUBLISH
X-WR-CALNAME:Johnson Creek Watershed Council
X-ORIGINAL-URL:https://www.jcwc.org
X-WR-CALDESC:Events for Johnson Creek Watershed Council
REFRESH-INTERVAL;VALUE=DURATION:PT1H
X-Robots-Tag:noindex
X-PUBLISHED-TTL:PT1H
BEGIN:VTIMEZONE
TZID:America/Los_Angeles
BEGIN:DAYLIGHT
TZOFFSETFROM:-0800
TZOFFSETTO:-0700
TZNAME:PDT
DTSTART:20240310T100000
END:DAYLIGHT
BEGIN:STANDARD
TZOFFSETFROM:-0700
TZOFFSETTO:-0800
TZNAME:PST
DTSTART:20241103T090000
END:STANDARD
BEGIN:DAYLIGHT
TZOFFSETFROM:-0800
TZOFFSETTO:-0700
TZNAME:PDT
DTSTART:20250309T100000
END:DAYLIGHT
BEGIN:STANDARD
TZOFFSETFROM:-0700
TZOFFSETTO:-0800
TZNAME:PST
DTSTART:20251102T090000
END:STANDARD
BEGIN:DAYLIGHT
TZOFFSETFROM:-0800
TZOFFSETTO:-0700
TZNAME:PDT
DTSTART:20260308T100000
END:DAYLIGHT
BEGIN:STANDARD
TZOFFSETFROM:-0700
TZOFFSETTO:-0800
TZNAME:PST
DTSTART:20261101T090000
END:STANDARD
END:VTIMEZONE
BEGIN:VEVENT
DTSTART;TZID=America/Los_Angeles:20251018T100000
DTEND;TZID=America/Los_Angeles:20251018T140000
DTSTAMP:20260425T074005
CREATED:20250813T203929Z
LAST-MODIFIED:20251015T161722Z
UID:34148-1760781600-1760796000@www.jcwc.org
SUMMARY:2025 Salmon Survey Orientation
DESCRIPTION:This event is full and registration is closed!\nJohnson Creek is the only salmon bearing tributary in Eastern Portland! JCWC documents the distribution of salmon species and spawning activity throughout the watershed to inform restoration efforts and to share with our scientific partner organizations. \nSalmon are integral to the Pacific Northwest and to Johnson Creek. These amazing fish migrate from their natal streams\, to the ocean\, and back again to spawn. They also play important roles in the cultures and histories of Native Nations to this area. Since 2011\, JCWC volunteers have been studying the creek for Coho and Chinook salmon and their nests\, which are called redds. Join us this year for surveys! \nThe surveys are designed for all levels of mobility through in stream\, bank\, and stationary surveys. In stream surveys include suiting up in waders and life jackets and wading through Johnson Creek during winter flows looking for live salmon\, carcasses\, and nests. Surveys usually take about 3 hours and are scheduled in your own time. You will be surveying with a team so feel free to sign-up your own or we’ll team you up with other surveyors! \nThese surveys are in high demand please email sara@jcwc.org if you can no longer participate.  \nWhen: Orientation – Saturday\, October 18th\, 10am-1:30pm\, with an hour break for lunch and travel.  \n  \nSurvey Season – Surveyors will conduct 2-3 surveys from mid-October to mid-November \n  \nWhere: Zoom Orientation – October 18th\, 10am-11:30am\, Zoom link emailed to you after registration \n  \nOutdoor Orientation and Gear Pick-up – October 18th\, 12:30pm-1:30pm\, Johnson Creek Park (address emailed after orientation)  \n  \nSurvey Season: Surveys this year will take place ONLY in Crystal Springs in inner SE Portland.  \n  \nBoth indoor and outdoor orientation are required to participate \n  \nTime commitment: Orientation – 3.5 hours \n  \nSurvey Season – Sign-up for 2-3 surveys. Surveys typically take 2-3 hours.  \nHow to prepare: This event will happen rain or shine\, so dress for weather: rain coat\, warm layers\, sun hat\, and sunscreen as necessary. Wear sturdy\, close-toed shoes and clothes you don’t mind getting dirty. Bring a filled water bottle and a snack. \nWe will provide: We will provide all necessary training and gear. You are welcome to bring your own waders\, life jacket\, and walking stick. We can also provide bus fare to and from the event. Please contact sara@jcwc.org to arrange bus fare. \nHealth and safety: We will follow current Oregon Health Authority guidelines. Masks are not required\, but encouraged in indoor spaces where social distancing is not possible. Stay home if you are experiencing symptoms of any contagious illness or have had recent contact with someone exhibiting symptoms of any illness. \nChildren 16 years and older are welcome to participate in surveys. \nAccessibility: These surveys require walking/standing/squatting for up to 3 hours in summer weather. Surveys require wading through Johnson Creek in water levels that can vary between ankle deep to waist deep and potentially climbing over/under downed logs. Anyone under 4ft tall is unfortunately not permitted to participate in surveys.  \nThese surveys are in high demand please email sara@jcwc.org if you can no longer participate.  \nThank you to our funders and partners for supporting watershed health. East Multnomah Soil & Water Conservation District\, The City of Portland’s Bureau of Environmental Services\, Reed College\, and Portland Parks & Recreation. 
URL:https://www.jcwc.org/events/2025-salmon-survey-orientation/
CATEGORIES:Volunteer Event
ATTACH;FMTTYPE=image/jpeg:https://www.jcwc.org/wp-content/uploads/2025/08/Heading-5.jpg
END:VEVENT
BEGIN:VEVENT
DTSTART;TZID=America/Los_Angeles:20251021T130000
DTEND;TZID=America/Los_Angeles:20251021T170000
DTSTAMP:20260425T074005
CREATED:20250918T212033Z
LAST-MODIFIED:20250918T212033Z
UID:34244-1761051600-1761066000@www.jcwc.org
SUMMARY:10th Annual Science Symposium
DESCRIPTION:This year’s symposium highlights the latest research and restoration projects shaping Johnson Creek and its surrounding ecosystems. From amphibian field guides to floodplain and wetland restoration\, long-term data analysis\, and the Confluence Project\, presenters will share discoveries that reveal how our watershed is changing—and what that means for the future. \nCome learn from local scientists\, graduate students\, and practitioners working to better understand and restore the health of Johnson Creek. \n  \nTo see the full line-up of speakers and purchase tickets\, click here!\n  \nWhat: Johnson Creek Science Symposium. Tickets $10. \nWhen: Tuesday\, October 21st\, 1pm-5pm. The program starts promptly at 1pm. If you arrive after 1pm you will be let in during a break in programming. There will be a 30 minute break during the programming with hors d’oeuvres and refreshments available. \nWhere: Reed College Performing Arts Building Room 320\, 3017 SE Woodstock Blvd\, Portland\, OR 97202. Parking is available in the Reed College West Parking Lot. \nWhat to bring: Your burning questions on all things Johnson Creek Science! We also recommend bringing a sealable water bottle for use during the program. \nWhat we will provide: So much science! We will also provide hors d’oeuvres and refreshments during a break mid way through the event. \nAccessibility: This event requires standing or sitting for long periods of time. The venue is ADA accessible\, including bathrooms. \n  \nTo see the full line-up of speakers and purchase tickets\, click here!\n  \nThank you to our funders and partners for supporting watershed health. Thank you Portland Bureau of Environmental Services\, Oregon Watershed Enhancement Board\, and Sue & Dick Schubert. 
URL:https://www.jcwc.org/events/10th-annual-science-symposium/
CATEGORIES:Educational Event
ATTACH;FMTTYPE=image/jpeg:https://www.jcwc.org/wp-content/uploads/2025/09/20251021-Science-Symposium-Event-Brite-cover-image.jpg
END:VEVENT
END:VCALENDAR